BEGIN:VCALENDAR
VERSION:2.0
PRODID:-//Tukios.com/
BEGIN:VEVENT
UID:06e35e10-f510-4168-a635-bd81b5f3ffb5@www.pattonfh.com
DTSTAMP:20260421T231043Z
DTSTART:20260606T160000Z
DTEND:20260606T170000Z
SUMMARY:Memorial Service
DESCRIPTION:
URL:https://www.pattonfh.com/obituaries/betty-snyder
LOCATION: 311 Mondale St  Elmore MN 56027
GEO:43.5061191;-94.0838467
END:VEVENT
END:VCALENDAR