BEGIN:VCALENDAR
VERSION:2.0
PRODID:-//Tukios.com/
BEGIN:VEVENT
UID:4457bfe3-4415-411c-a49a-0271fe8748b6@www.pattonfh.com
DTSTAMP:20260421T230920Z
DTSTART:20260606T150000Z
DTEND:20260606T160000Z
SUMMARY:Visitation
DESCRIPTION:
URL:https://www.pattonfh.com/obituaries/betty-snyder
LOCATION: 311 Mondale St  Elmore MN 56027
GEO:43.5061191;-94.0838467
END:VEVENT
END:VCALENDAR